BEGIN:VCALENDAR
VERSION:2.0
PRODID:-//ChamberMaster//Event Calendar 2.0//EN
METHOD:PUBLISH
X-PUBLISHED-TTL:P1H
REFRESH-INTERVAL:P1H
CALSCALE:GREGORIAN
BEGIN:VTIMEZONE
TZID:America/New_York
BEGIN:DAYLIGHT
RRULE:FREQ=YEARLY;BYMONTH=3;BYDAY=2SU
DTSTART:20070101T000000
TZOFFSETFROM:-0500
TZOFFSETTO:-0400
TZNAME:Eastern Daylight Time
END:DAYLIGHT
BEGIN:STANDARD
RRULE:FREQ=YEARLY;BYMONTH=11;BYDAY=1SU
DTSTART:20070101T000000
TZOFFSETFROM:-0400
TZOFFSETTO:-0500
TZNAME:Eastern Standard Time
END:STANDARD
END:VTIMEZONE
BEGIN:VEVENT
DTSTART;TZID=America/New_York:20260506T130000
DTEND;TZID=America/New_York:20260506T150000
X-MICROSOFT-CDO-ALLDAYEVENT:FALSE
SUMMARY:PRAR: SCR Forms Made Simple with Reah Smith
DESCRIPTION:Join us for a Virtual Town Hall designed to help you confidently navigate the latest South Carolina forms updates. This session will provide practical\, real-world guidance from an experienced practitioner\, combined with a clear technical overview of recent changes.\n\nThe program will include a comprehensive review of key forms\, including 220\, 130\, 120\, and 310\, with a focus on how these updates impact your day-to-day transactions and client interactions.\n\nThis 90-minute presentation will be followed by a dedicated 30-minute Q&A session\, giving you the opportunity to ask questions and gain clarity on specific scenarios and challenges.\n\nHosted as a virtual event to maximize accessibility and attendance\, this is an excellent opportunity to stay informed\, strengthen your understanding\, and ensure you are using the most current forms with confidence.
X-ALT-DESC;FMTTYPE=text/html:Join us for a Virtual Town Hall designed to help you confidently navigate the latest South Carolina forms updates. This session will provide practical\, real-world guidance from an experienced practitioner\, combined with a clear technical overview of recent changes.\n\nThe program will include a comprehensive review of key forms\, including 220\, 130\, 120\, and 310\, with a focus on how these updates impact your day-to-day transactions and client interactions.\n\nThis 90-minute presentation will be followed by a dedicated 30-minute Q&A session\, giving you the opportunity to ask questions and gain clarity on specific scenarios and challenges.\n\nHosted as a virtual event to maximize accessibility and attendance\, this is an excellent opportunity to stay informed\, strengthen your understanding\, and ensure you are using the most current forms with confidence.
LOCATION:
UID:e.1696.1445555
SEQUENCE:3
DTSTAMP:20260423T183406Z
URL:https://members.prar.com/continuing-education-calendar/Details/prar-scr-forms-made-simple-with-reah-smith-1712172?sourceTypeId=Hub
END:VEVENT
END:VCALENDAR
