BEGIN:VCALENDAR
VERSION:2.0
PRODID:-//ChamberMaster//Event Calendar 2.0//EN
METHOD:PUBLISH
X-PUBLISHED-TTL:P1H
REFRESH-INTERVAL:P1H
CALSCALE:GREGORIAN
BEGIN:VTIMEZONE
TZID:America/New_York
BEGIN:DAYLIGHT
RRULE:FREQ=YEARLY;BYMONTH=3;BYDAY=2SU
DTSTART:20070101T000000
TZOFFSETFROM:-0500
TZOFFSETTO:-0400
TZNAME:Eastern Daylight Time
END:DAYLIGHT
BEGIN:STANDARD
RRULE:FREQ=YEARLY;BYMONTH=11;BYDAY=1SU
DTSTART:20070101T000000
TZOFFSETFROM:-0400
TZOFFSETTO:-0500
TZNAME:Eastern Standard Time
END:STANDARD
END:VTIMEZONE
BEGIN:VEVENT
DTSTART;TZID=America/New_York:20260526T133000
DTEND;TZID=America/New_York:20260526T150000
X-MICROSOFT-CDO-ALLDAYEVENT:FALSE
SUMMARY:REALTOR Hot Topic - SC Forms Update
DESCRIPTION:Stay up to date on the latest developments in South Carolina real estate forms at our upcoming Realtor  Hot Topic session. This session will provide an overview of recent changes\, key updates\, and what to expect moving forward\, helping you remain compliant and confident in your transactions. We are excited to welcome Tiara Pitts\, Ethics & Legal Compliance Counsel\, South Carolina Realtors  as the guest speaker\, bringing valuable insight and expertise to guide you through the important updates on South Carolina forms. Don't miss this opportunity to stay informed and ahead in your business. This webinar is open exclusively to members of the Piedmont Regional Realtor  Association and the Canopy Realtor  Association (both primary and secondary members) who are also members of South Carolina Realtors .  This webinar does not include CE credit.
X-ALT-DESC;FMTTYPE=text/html:<!DOCTYPE html><html><head><title></title></head><body aria-disabled="false"><p><span style='color: rgb(35\, 35\, 51)\; font-family: "Helvetica Neue"\, Helvetica\, Arial\, sans-serif\; font-size: 14px\; font-style: normal\; font-variant-ligatures: normal\; font-variant-caps: normal\; font-weight: 400\; letter-spacing: normal\; orphans: 2\; text-align: start\; text-indent: 0px\; text-transform: none\; widows: 2\; word-spacing: 0px\; -webkit-text-stroke-width: 0px\; white-space: pre-wrap\; background-color: rgb(255\, 255\, 255)\; text-decoration-thickness: initial\; text-decoration-style: initial\; text-decoration-color: initial\; display: inline !important\; float: none\;'>Stay up to date on the latest developments in South Carolina real estate forms at our upcoming Realtor&reg\; Hot Topic session. This session will provide an overview of recent changes\, key updates\, and what to expect moving forward\, helping you remain compliant and confident in your transactions. We are excited to welcome Tiara Pitts\, Ethics &amp\; Legal Compliance Counsel\, South Carolina Realtors&reg\; as the guest speaker\, bringing valuable insight and expertise to guide you through the important updates on South Carolina forms. Don&rsquo\;t miss this opportunity to stay informed and ahead in your business. This webinar is open exclusively to members of the Piedmont Regional Realtor&reg\; Association and the Canopy Realtor&reg\; Association (both primary and secondary members) who are also members of South Carolina Realtors&reg\;. &nbsp\;This webinar does not include CE credit.</span> </p></body></html>
LOCATION:
UID:e.1696.1442238
SEQUENCE:3
DTSTAMP:20260423T183616Z
URL:https://members.prar.com/continuing-education-calendar/Details/realtor-hot-topic-sc-forms-update-1708112?sourceTypeId=Hub
END:VEVENT
END:VCALENDAR
