BEGIN:VCALENDAR
VERSION:2.0
PRODID:-//ChamberMaster//Event Calendar 2.0//EN
METHOD:PUBLISH
X-PUBLISHED-TTL:P1H
REFRESH-INTERVAL:P1H
CALSCALE:GREGORIAN
BEGIN:VTIMEZONE
TZID:America/New_York
BEGIN:DAYLIGHT
RRULE:FREQ=YEARLY;BYMONTH=3;BYDAY=2SU
DTSTART:20070101T000000
TZOFFSETFROM:-0500
TZOFFSETTO:-0400
TZNAME:Eastern Daylight Time
END:DAYLIGHT
BEGIN:STANDARD
RRULE:FREQ=YEARLY;BYMONTH=11;BYDAY=1SU
DTSTART:20070101T000000
TZOFFSETFROM:-0400
TZOFFSETTO:-0500
TZNAME:Eastern Standard Time
END:STANDARD
END:VTIMEZONE
BEGIN:VEVENT
DTSTART;TZID=America/New_York:20260429T100050
DTEND;TZID=America/New_York:20260429T110050
X-MICROSOFT-CDO-ALLDAYEVENT:FALSE
SUMMARY:Book Club: The Sum of Us
DESCRIPTION:Celebrate Fair Housing Month APRIL 2026 with PRAR's first-ever Book Club!\nJoin us in reading The Sum of Us by Heather McGhee and supported by a NAR grant.📘 Register by March 19 to receive your complimentary copy (pickup the week of March 31)\n💬 Zoom discussion on April 29 exploring the book's insights and connections to fair housingBe part of this meaningful first-time initiative and an engaging member conversation.
X-ALT-DESC;FMTTYPE=text/html:<!DOCTYPE html><html><head><title></title></head><body aria-disabled="false"><p data-end="322" data-start="184"><strong data-end="255" data-start="184" fr-original-style="" style="font-weight: 700\;">Celebrate Fair Housing Month APRIL 2026 with PRAR&rsquo\;s first-ever Book Club!</strong><br data-start="255" data-end="258">Join us in reading <em data-end="292" data-start="277">The Sum of Us&nbsp\;</em>by Heather McGhee and supported by a NAR grant.</p><p data-end="517" data-start="324">📘 <strong data-end="351" data-start="327" fr-original-style="" style="font-weight: 700\;">Register by March 19</strong> to receive your complimentary copy (pickup the week of March 31)<br data-start="416" data-end="419">💬 <strong data-end="453" data-start="422" fr-original-style="" style="font-weight: 700\;">Zoom discussion on April 29</strong> exploring the book&rsquo\;s insights and connections to fair housing</p><p data-end="604" data-start="519">Be part of this meaningful first-time initiative and an engaging member conversation.</p></body></html>
LOCATION:
UID:e.1696.1396667
SEQUENCE:3
DTSTAMP:20260424T080311Z
URL:https://members.prar.com/continuing-education-calendar/Details/book-club-the-sum-of-us-1650401?sourceTypeId=Hub
END:VEVENT
END:VCALENDAR
