BEGIN:VCALENDAR
VERSION:2.0
PRODID:-//ChamberMaster//Event Calendar 2.0//EN
METHOD:PUBLISH
X-PUBLISHED-TTL:P1H
REFRESH-INTERVAL:P1H
CALSCALE:GREGORIAN
BEGIN:VTIMEZONE
TZID:America/New_York
BEGIN:DAYLIGHT
RRULE:FREQ=YEARLY;BYMONTH=3;BYDAY=2SU
DTSTART:20070101T000000
TZOFFSETFROM:-0500
TZOFFSETTO:-0400
TZNAME:Eastern Daylight Time
END:DAYLIGHT
BEGIN:STANDARD
RRULE:FREQ=YEARLY;BYMONTH=11;BYDAY=1SU
DTSTART:20070101T000000
TZOFFSETFROM:-0400
TZOFFSETTO:-0500
TZNAME:Eastern Standard Time
END:STANDARD
END:VTIMEZONE
BEGIN:VEVENT
DTSTART;TZID=America/New_York:20260423T130000
DTEND;TZID=America/New_York:20260423T140000
X-MICROSOFT-CDO-ALLDAYEVENT:FALSE
SUMMARY:NAR: Learn how to Get Found on AI Search\, Google Search\, and Social Media
DESCRIPTION:From REALTOR® to Real Estate Influencer\nGet Found on Google\, AI Search and Social Media\n \nThe way consumers find real estate professionals is changing fast. Buyers and sellers are no longer just asking friends for referrals or browsing portals. They are searching Google\, asking AI tools like ChatGPT\, and discovering local experts through social media.\n \nIn this session\, you’ll learn how to position yourself as the trusted authority in your market so that search engines\, AI platforms\, and social networks consistently surface you as the agent to call.\n \nDiscover how to build a powerful digital presence\, optimize your online identity\, and create content that attracts attention\, builds credibility\, and generates inbound opportunities. You’ll walk away with practical strategies to strengthen your visibility\, expand your influence\, and transform from a traditional Realtor into a true real estate influencer in your market.\n\nBe live to win prizes! But if you can't make it\, no worries - we will send the recording after to watch at your leisure. The biggest AI Webinar to date!
X-ALT-DESC;FMTTYPE=text/html:From REALTOR® to Real Estate Influencer\nGet Found on Google\, AI Search and Social Media\n \nThe way consumers find real estate professionals is changing fast. Buyers and sellers are no longer just asking friends for referrals or browsing portals. They are searching Google\, asking AI tools like ChatGPT\, and discovering local experts through social media.\n \nIn this session\, you’ll learn how to position yourself as the trusted authority in your market so that search engines\, AI platforms\, and social networks consistently surface you as the agent to call.\n \nDiscover how to build a powerful digital presence\, optimize your online identity\, and create content that attracts attention\, builds credibility\, and generates inbound opportunities. You’ll walk away with practical strategies to strengthen your visibility\, expand your influence\, and transform from a traditional Realtor into a true real estate influencer in your market.\n\nBe live to win prizes! But if you can't make it\, no worries - we will send the recording after to watch at your leisure. The biggest AI Webinar to date!
LOCATION:
UID:e.1696.1442605
SEQUENCE:3
DTSTAMP:20260424T080805Z
URL:https://members.prar.com/continuing-education-calendar/Details/nar-learn-how-to-get-found-on-ai-search-google-search-and-social-media-1708646?sourceTypeId=Hub
END:VEVENT
END:VCALENDAR
